BEGIN:VCALENDAR
VERSION:2.0
PRODID:-//[ DUISBURG-JOURNAL ] - ECPv6.15.20//NONSGML v1.0//EN
CALSCALE:GREGORIAN
METHOD:PUBLISH
X-ORIGINAL-URL:https://duisburg-journal.de
X-WR-CALDESC:Veranstaltungen für [ DUISBURG-JOURNAL ]
REFRESH-INTERVAL;VALUE=DURATION:PT1H
X-Robots-Tag:noindex
X-PUBLISHED-TTL:PT1H
BEGIN:VTIMEZONE
TZID:Europe/Berlin
BEGIN:DAYLIGHT
TZOFFSETFROM:+0100
TZOFFSETTO:+0200
TZNAME:CEST
DTSTART:20250330T010000
END:DAYLIGHT
BEGIN:STANDARD
TZOFFSETFROM:+0200
TZOFFSETTO:+0100
TZNAME:CET
DTSTART:20251026T010000
END:STANDARD
BEGIN:DAYLIGHT
TZOFFSETFROM:+0100
TZOFFSETTO:+0200
TZNAME:CEST
DTSTART:20260329T010000
END:DAYLIGHT
BEGIN:STANDARD
TZOFFSETFROM:+0200
TZOFFSETTO:+0100
TZNAME:CET
DTSTART:20261025T010000
END:STANDARD
BEGIN:DAYLIGHT
TZOFFSETFROM:+0100
TZOFFSETTO:+0200
TZNAME:CEST
DTSTART:20270328T010000
END:DAYLIGHT
BEGIN:STANDARD
TZOFFSETFROM:+0200
TZOFFSETTO:+0100
TZNAME:CET
DTSTART:20271031T010000
END:STANDARD
END:VTIMEZONE
BEGIN:VEVENT
DTSTART;TZID=Europe/Berlin:20260301T080000
DTEND;TZID=Europe/Berlin:20260301T170000
DTSTAMP:20260425T135002
CREATED:20260301T203503Z
LAST-MODIFIED:20260301T203827Z
UID:20206-1772352000-1772384400@duisburg-journal.de
SUMMARY:Fremder als der Mond ( Theater Duisburg )
DESCRIPTION:
URL:https://duisburg-journal.de/event/fremder-als-der-mond-theater-duisburg/
CATEGORIES:Abendveranstaltung,Kulturfestival
ATTACH;FMTTYPE=image/jpeg:https://duisburg-journal.de/wp-content/uploads/2025/02/c-MMB-Bild_2.jpg
END:VEVENT
BEGIN:VEVENT
DTSTART;TZID=Europe/Berlin:20260314T170000
DTEND;TZID=Europe/Berlin:20260314T193000
DTSTAMP:20260425T135002
CREATED:20260213T114942Z
LAST-MODIFIED:20260314T173218Z
UID:18943-1773507600-1773516600@duisburg-journal.de
SUMMARY:Kaiser Antonino Dance Ensemble  - Animale sociale – Ein stummer Dialog ( Museum DKM )
DESCRIPTION:Der Mensch ist ein soziales Wesen und kommuniziert verbal durch seine Stimme oder nonverbal durch Körpersprache. Letztere beinhaltet Bewegung\, Gestik und Mimik und ist künstlerisches Ausdruckmittel von Tanz. Das „Kaiser Antonino Dance Ensemble“ präsentiert mit seinem neuen Tanztheaterstück eine Uraufführung. \nURAUFFÜHRUNG – 14.03.2026 um 17 Uhr\nDarin geht es um Begegnungen dreier Tanzender und einer Schauspielerin mit Kunst-Skulpturen aus der Privatsammlung des Duisburger Museums DKM. Auf diese Weise entsteht ein atemberaubender Dialog zwischen darstellender und bildender Kunst. In beiden Genres sind Form\, Bewegung und Ausdruck die bestimmenden Elemente. Während diese in der bildenden Kunst – hier die Skulptur – auf Raum und Zeit fokussiert sind\, entfalten sie sich in der darstellenden Kunst – dort das Tanztheater – in der Bewegung und im Augenblick. Die Skulptur einer Figur kommt zwar der Darstellung eines „eingefrorenen“ Lebewesens sehr nah\, dennoch gibt sie trotz großer Gemeinsamkeiten\, nicht das wahre Leben wieder. \nAnimale Sociale – Ein stummer Dialog ist eine Produktion vom „Kaiser Antonino Dance Ensemble / The Roof-TanzRaum“ und der 47. Duisburger Akzente\, gefördert vom Landesbüro NRW Freie Darstellende Künste\, dem Ministerium für Kultur und Wissenschaft des Landes NRW sowie dem Kulturbüro der Stadt Duisburg. \nIdee\, Choreographie und Tanz: Sergio Antonino\, Avi Kaiser\nKostüme: Sergio Antonino\, Avi Kaiser \nQuelle: Museum DKM\nPhoto: © Avi Kaiser
URL:https://duisburg-journal.de/event/kaiser-antonino-dance-ensemble-animale-sociale-ein-stummer-dialog-museum-dkm/
LOCATION:Museum DKM\, Güntherstr. 13-15\, 47051 Duisburg-Dellviertel\, NRW\, Germany
CATEGORIES:Ausstellung,Kulturfestival,Kunst,Museum,Perfomance,Tanztheater
ATTACH;FMTTYPE=image/jpeg:https://duisburg-journal.de/wp-content/uploads/2026/01/animale_sociale_kaiser_antonino_dance_ensemble_sharon_zindany_2.jpg
END:VEVENT
BEGIN:VEVENT
DTSTART;TZID=Europe/Berlin:20260315T123000
DTEND;TZID=Europe/Berlin:20260315T150000
DTSTAMP:20260425T135002
CREATED:20260213T115434Z
LAST-MODIFIED:20260314T173439Z
UID:18946-1773577800-1773586800@duisburg-journal.de
SUMMARY:Kaiser Antonino Dance Ensemble  - Animale sociale – Ein stummer Dialog ( Museum DKM )
DESCRIPTION:Der Mensch ist ein soziales Wesen und kommuniziert verbal durch seine Stimme oder nonverbal durch Körpersprache. Letztere beinhaltet Bewegung\, Gestik und Mimik und ist künstlerisches Ausdruckmittel von Tanz. Das „Kaiser Antonino Dance Ensemble“ präsentiert mit seinem neuen Tanztheaterstück eine Uraufführung (am 14.03.).  \nAUFFÜHRUNGSBEGINN – 15.03.2026 um 12:30 Uhr\nDarin geht es um Begegnungen dreier Tanzender und einer Schauspielerin mit Kunst-Skulpturen aus der Privatsammlung des Duisburger Museums DKM. Auf diese Weise entsteht ein atemberaubender Dialog zwischen darstellender und bildender Kunst. In beiden Genres sind Form\, Bewegung und Ausdruck die bestimmenden Elemente. Während diese in der bildenden Kunst – hier die Skulptur – auf Raum und Zeit fokussiert sind\, entfalten sie sich in der darstellenden Kunst – dort das Tanztheater – in der Bewegung und im Augenblick. \nDie Skulptur einer Figur kommt zwar der Darstellung eines „eingefrorenen“ Lebewesens sehr nah\, dennoch gibt sie trotz großer Gemeinsamkeiten\, nicht das wahre Leben wieder. \nAnimale Sociale – Ein stummer Dialog ist eine Produktion vom „Kaiser Antonino Dance Ensemble / The Roof-TanzRaum“ und der 47. Duisburger Akzente\, gefördert vom Landesbüro NRW Freie Darstellende Künste\, dem Ministerium für Kultur und Wissenschaft des Landes NRW sowie dem Kulturbüro der Stadt Duisburg. \nIdee\, Choreographie und Tanz:\nSergio Antonino\, Avi Kaiser\nKostüme:\nSergio Antonino\, Avi Kaiser \nQuelle: Museum DKM\nPhoto: © Avi Kaiser
URL:https://duisburg-journal.de/event/kaiser-antonino-dance-ensemble-animale-sociale-ein-stummer-dialog-museum-dkm-2/
LOCATION:Museum DKM\, Güntherstr. 13-15\, 47051 Duisburg-Dellviertel\, NRW\, Germany
CATEGORIES:Kulturfestival,Museum,Perfomance,Tanztheater
ATTACH;FMTTYPE=image/jpeg:https://duisburg-journal.de/wp-content/uploads/2026/01/animale_sociale_kaiser_antonino_dance_ensemble_stiftung_dkm_2.jpg
END:VEVENT
END:VCALENDAR