BEGIN:VCALENDAR
VERSION:2.0
PRODID:-//[ DUISBURG-JOURNAL ] - ECPv6.15.20//NONSGML v1.0//EN
CALSCALE:GREGORIAN
METHOD:PUBLISH
X-WR-CALNAME:[ DUISBURG-JOURNAL ]
X-ORIGINAL-URL:https://duisburg-journal.de
X-WR-CALDESC:Veranstaltungen für [ DUISBURG-JOURNAL ]
REFRESH-INTERVAL;VALUE=DURATION:PT1H
X-Robots-Tag:noindex
X-PUBLISHED-TTL:PT1H
BEGIN:VTIMEZONE
TZID:Europe/Berlin
BEGIN:DAYLIGHT
TZOFFSETFROM:+0100
TZOFFSETTO:+0200
TZNAME:CEST
DTSTART:20250330T010000
END:DAYLIGHT
BEGIN:STANDARD
TZOFFSETFROM:+0200
TZOFFSETTO:+0100
TZNAME:CET
DTSTART:20251026T010000
END:STANDARD
BEGIN:DAYLIGHT
TZOFFSETFROM:+0100
TZOFFSETTO:+0200
TZNAME:CEST
DTSTART:20260329T010000
END:DAYLIGHT
BEGIN:STANDARD
TZOFFSETFROM:+0200
TZOFFSETTO:+0100
TZNAME:CET
DTSTART:20261025T010000
END:STANDARD
BEGIN:DAYLIGHT
TZOFFSETFROM:+0100
TZOFFSETTO:+0200
TZNAME:CEST
DTSTART:20270328T010000
END:DAYLIGHT
BEGIN:STANDARD
TZOFFSETFROM:+0200
TZOFFSETTO:+0100
TZNAME:CET
DTSTART:20271031T010000
END:STANDARD
END:VTIMEZONE
BEGIN:VEVENT
DTSTART;TZID=Europe/Berlin:20260320T193000
DTEND;TZID=Europe/Berlin:20260320T211500
DTSTAMP:20260421T130327
CREATED:20260314T191912Z
LAST-MODIFIED:20260314T205320Z
UID:21345-1774035000-1774041300@duisburg-journal.de
SUMMARY:Dan Browns DER DA VINCI CODE - SAKRILEG
DESCRIPTION:Dan Browns DER DA VINCI CODE – SAKRILEG\nDer Weltbestseller – LIVE ON STAGE\nDan Browns Thriller-Sensation DER DA VINCI CODE – SAKRILEG hielt über 80 Millionen Leser weltweit in Atem\, war unglaubliche 48 Wochen lang auf Platz 1 der SPIEGEL-Bestsellerliste und faszinierte knapp sechs Millionen Kinobesucher allein in Deutschland. Nun kommt das weltweite Bestseller-Phänomen erstmals auf die Theaterbühnen in ganz Deutschland und Österreich!  \nDas Publikum erlebt die packende Geschichte um Robert Langdons Suche nach dem Heiligen Gral durch ganz Europa so wie noch nie zuvor – in der offiziellen\, filmreifen Bühnenversion mit einem neuen\, epischen Soundtrack – live und hautnah! \nDie größte Verschwörung der Geschichte der Menschheit Harvard-Professor Robert Langdon wird eines Nachts in den Pariser Louvre gerufen\, wo Chefkurator Jacques Saunière direkt vor der Mona Lisa in einem Pentagramm ermordet wurde. Gefragt ist Langdons Expertise\, um den symbolträchtigen Mord mit Hilfe von kryptischen Hinweisen in Werken von Leonardo Da Vincis aufzuklären – doch schnell wird er zum Hauptverdächtigen! Gemeinsam mit der Kryptologin Sophie Neveu begibt er sich auf die Flucht und es beginnt ein Rennen gegen die Zeit\, um seine Unschuld zu beweisen und vor seinen mächtigen Widersachern ein Jahrtausende-altes Mysterium aufzudecken\, welches die Grundfesten der Kirche erschüttern könnte… \n„Ich bin glücklich\, dass DER DA VINCI CODE – SAKRILEG nun endlich seinen Weg auf die Bühne findet und bin gespannt darauf\, zu sehen\, wie die einzigartige Kraft des Live-Theaters die Story weiterentwickeln kann. Das Team hinter der Produktion ist dem Buch treu geblieben\, wird aber auch neue Impulse setzen. Das Publikum darf sich auf einen fesselnden\, rasanten Bühnen-Thriller und eine rundum unterhaltsame Show freuen.“ \n– Autor Dan Brown über die Bühnenadaption \n__________________________________________________ \nCAST\nRobert Langdon – Hannes Levianto\nSophie Neveu – Helena Charlotte Sigal\nJacques Saunière / Sir Leigh Teabing – Cusch Jung \nSilas – Silvio Römer\nRémy und andere – Elias Reichert\nBezu Fache – Dave Wilcox \nLieutenant Collet und andere – Christoph Bangerter\nSchwester Sandrine / Marie Chauvel – Susanna Panzner \nVernet und andere – Lucia Schulz\nEnsemble – Rene Eichinger\nEnsemble – Annika Böbel \nEinlass: 18:30 Uhr  |  Beginn:  19:30 Uhr \nQuelle: Theater am Marientor\nPhoto: © MMB/Below
URL:https://duisburg-journal.de/event/dan-browns-der-da-vinci-code-sakrileg/
LOCATION:Theater am Marientor (TaM)\, Plessingstr. 20\, 47051 DUISBURG\, NRW\, Germany
CATEGORIES:Abendveranstaltung,Theaterveranstaltung
ORGANIZER;CN="ShowSlot Touring GmbH":MAILTO:info@showslot.de
END:VEVENT
BEGIN:VEVENT
DTSTART;TZID=Europe/Berlin:20260321T150000
DTEND;TZID=Europe/Berlin:20260321T164500
DTSTAMP:20260421T130327
CREATED:20260314T192730Z
LAST-MODIFIED:20260320T144959Z
UID:21353-1774105200-1774111500@duisburg-journal.de
SUMMARY:Dan Browns DER DA VINCI CODE - SAGKRILEG
DESCRIPTION:Dan Browns DER DA VINCI CODE – SAKRILEG\nDer Weltbestseller – LIVE ON STAGE\nDan Browns Thriller-Sensation DER DA VINCI CODE – SAKRILEG hielt über 80 Millionen Leser weltweit in Atem\, war unglaubliche 48 Wochen lang auf Platz 1 der SPIEGEL-Bestsellerliste und faszinierte knapp sechs Millionen Kinobesucher allein in Deutschland. Nun kommt das weltweite Bestseller-Phänomen erstmals auf die Theaterbühnen in ganz Deutschland und Österreich!  \nDas Publikum erlebt die packende Geschichte um Robert Langdons Suche nach dem Heiligen Gral durch ganz Europa so wie noch nie zuvor – in der offiziellen\, filmreifen Bühnenversion mit einem neuen\, epischen Soundtrack – live und hautnah! \nDie größte Verschwörung der Geschichte der Menschheit Harvard-Professor Robert Langdon wird eines Nachts in den Pariser Louvre gerufen\, wo Chefkurator Jacques Saunière direkt vor der Mona Lisa in einem Pentagramm ermordet wurde. Gefragt ist Langdons Expertise\, um den symbolträchtigen Mord mit Hilfe von kryptischen Hinweisen in Werken von Leonardo Da Vincis aufzuklären – doch schnell wird er zum Hauptverdächtigen! Gemeinsam mit der Kryptologin Sophie Neveu begibt er sich auf die Flucht und es beginnt ein Rennen gegen die Zeit\, um seine Unschuld zu beweisen und vor seinen mächtigen Widersachern ein Jahrtausende-altes Mysterium aufzudecken\, welches die Grundfesten der Kirche erschüttern könnte… \n„Ich bin glücklich\, dass DER DA VINCI CODE – SAKRILEG nun endlich seinen Weg auf die Bühne findet und bin gespannt darauf\, zu sehen\, wie die einzigartige Kraft des Live-Theaters die Story weiterentwickeln kann. Das Team hinter der Produktion ist dem Buch treu geblieben\, wird aber auch neue Impulse setzen. Das Publikum darf sich auf einen fesselnden\, rasanten Bühnen-Thriller und eine rundum unterhaltsame Show freuen.“ \n– Autor Dan Brown über die Bühnenadaption \n__________________________________________________ \nCAST\nRobert Langdon – Hannes Levianto\nSophie Neveu – Helena Charlotte Sigal\nJacques Saunière / Sir Leigh Teabing – Cusch Jung \nSilas – Silvio Römer\nRémy und andere – Elias Reichert\nBezu Fache – Dave Wilcox \nLieutenant Collet und andere – Christoph Bangerter\nSchwester Sandrine / Marie Chauvel – Susanna Panzner \nVernet und andere – Lucia Schulz\nEnsemble – Rene Eichinger\nEnsemble – Annika Böbel \nEinlass: 14:00 Uhr  |  Beginn:  15:00 Uhr \nQuelle: Theater am Marientor\nPhoto: © MMB/Below
URL:https://duisburg-journal.de/event/dan-browns-der-da-vinci-code-sagkrileg/
LOCATION:Theater am Marientor (TaM)\, Plessingstr. 20\, 47051 DUISBURG\, NRW\, Germany
CATEGORIES:Nachmittagsveranstaltung,Theaterveranstaltung
ORGANIZER;CN="ShowSlot Touring GmbH":MAILTO:info@showslot.de
END:VEVENT
BEGIN:VEVENT
DTSTART;TZID=Europe/Berlin:20260321T193000
DTEND;TZID=Europe/Berlin:20260321T211500
DTSTAMP:20260421T130327
CREATED:20260314T194340Z
LAST-MODIFIED:20260314T205054Z
UID:21364-1774121400-1774127700@duisburg-journal.de
SUMMARY:Dan Browns DER DA VINCI CODE - SAKRILEG
DESCRIPTION:Dan Browns DER DA VINCI CODE – SAKRILEG\nDer Weltbestseller – LIVE ON STAGE\nDan Browns Thriller-Sensation DER DA VINCI CODE – SAKRILEG hielt über 80 Millionen Leser weltweit in Atem\, war unglaubliche 48 Wochen lang auf Platz 1 der SPIEGEL-Bestsellerliste und faszinierte knapp sechs Millionen Kinobesucher allein in Deutschland. Nun kommt das weltweite Bestseller-Phänomen erstmals auf die Theaterbühnen in ganz Deutschland und Österreich!  \nDas Publikum erlebt die packende Geschichte um Robert Langdons Suche nach dem Heiligen Gral durch ganz Europa so wie noch nie zuvor – in der offiziellen\, filmreifen Bühnenversion mit einem neuen\, epischen Soundtrack – live und hautnah! \nDie größte Verschwörung der Geschichte der Menschheit Harvard-Professor Robert Langdon wird eines Nachts in den Pariser Louvre gerufen\, wo Chefkurator Jacques Saunière direkt vor der Mona Lisa in einem Pentagramm ermordet wurde. Gefragt ist Langdons Expertise\, um den symbolträchtigen Mord mit Hilfe von kryptischen Hinweisen in Werken von Leonardo Da Vincis aufzuklären – doch schnell wird er zum Hauptverdächtigen! Gemeinsam mit der Kryptologin Sophie Neveu begibt er sich auf die Flucht und es beginnt ein Rennen gegen die Zeit\, um seine Unschuld zu beweisen und vor seinen mächtigen Widersachern ein Jahrtausende-altes Mysterium aufzudecken\, welches die Grundfesten der Kirche erschüttern könnte… \n„Ich bin glücklich\, dass DER DA VINCI CODE – SAKRILEG nun endlich seinen Weg auf die Bühne findet und bin gespannt darauf\, zu sehen\, wie die einzigartige Kraft des Live-Theaters die Story weiterentwickeln kann. Das Team hinter der Produktion ist dem Buch treu geblieben\, wird aber auch neue Impulse setzen. Das Publikum darf sich auf einen fesselnden\, rasanten Bühnen-Thriller und eine rundum unterhaltsame Show freuen.“ \n– Autor Dan Brown über die Bühnenadaption \n__________________________________________________ \nCAST\nRobert Langdon – Hannes Levianto\nSophie Neveu – Helena Charlotte Sigal\nJacques Saunière / Sir Leigh Teabing – Cusch Jung \nSilas – Silvio Römer\nRémy und andere – Elias Reichert\nBezu Fache – Dave Wilcox \nLieutenant Collet und andere – Christoph Bangerter\nSchwester Sandrine / Marie Chauvel – Susanna Panzner \nVernet und andere – Lucia Schulz\nEnsemble – Rene Eichinger\nEnsemble – Annika Böbel \nEinlass: 18:30 Uhr  |  Beginn:  19:30 Uhr \nQuelle: Theater am Marientor\nPhoto: © MMB/Below
URL:https://duisburg-journal.de/event/dan-browns-der-da-vinci-code-sakrileg-2/
LOCATION:Theater am Marientor (TaM)\, Plessingstr. 20\, 47051 DUISBURG\, NRW\, Germany
CATEGORIES:Abendveranstaltung,Theaterveranstaltung
ORGANIZER;CN="ShowSlot Touring GmbH":MAILTO:info@showslot.de
END:VEVENT
END:VCALENDAR